BEGIN:VCALENDAR
VERSION:2.0
PRODID:-// - ECPv6.15.20//NONSGML v1.0//EN
CALSCALE:GREGORIAN
METHOD:PUBLISH
X-ORIGINAL-URL:https://schuetzen-hamich.de
X-WR-CALDESC:Veranstaltungen für 
REFRESH-INTERVAL;VALUE=DURATION:PT1H
X-Robots-Tag:noindex
X-PUBLISHED-TTL:PT1H
BEGIN:VTIMEZONE
TZID:Europe/Berlin
BEGIN:DAYLIGHT
TZOFFSETFROM:+0100
TZOFFSETTO:+0200
TZNAME:CEST
DTSTART:20250330T010000
END:DAYLIGHT
BEGIN:STANDARD
TZOFFSETFROM:+0200
TZOFFSETTO:+0100
TZNAME:CET
DTSTART:20251026T010000
END:STANDARD
BEGIN:DAYLIGHT
TZOFFSETFROM:+0100
TZOFFSETTO:+0200
TZNAME:CEST
DTSTART:20260329T010000
END:DAYLIGHT
BEGIN:STANDARD
TZOFFSETFROM:+0200
TZOFFSETTO:+0100
TZNAME:CET
DTSTART:20261025T010000
END:STANDARD
BEGIN:DAYLIGHT
TZOFFSETFROM:+0100
TZOFFSETTO:+0200
TZNAME:CEST
DTSTART:20270328T010000
END:DAYLIGHT
BEGIN:STANDARD
TZOFFSETFROM:+0200
TZOFFSETTO:+0100
TZNAME:CET
DTSTART:20271031T010000
END:STANDARD
END:VTIMEZONE
BEGIN:VEVENT
DTSTART;VALUE=DATE:20260601
DTEND;VALUE=DATE:20260602
DTSTAMP:20260425T161603
CREATED:20251223T153844Z
LAST-MODIFIED:20251223T153844Z
UID:11076-1780272000-1780358399@schuetzen-hamich.de
SUMMARY:Transvaal belegt
DESCRIPTION:Vorstandsitzung BV-WL e.V. mit anschließendem Stammtisch
URL:https://schuetzen-hamich.de/event/transvaal-belegt-24/
END:VEVENT
BEGIN:VEVENT
DTSTART;VALUE=DATE:20260606
DTEND;VALUE=DATE:20260607
DTSTAMP:20260425T161603
CREATED:20260211T165231Z
LAST-MODIFIED:20260211T165232Z
UID:11126-1780704000-1780790399@schuetzen-hamich.de
SUMMARY:Transvaal belegt
DESCRIPTION:Familienfeier R.
URL:https://schuetzen-hamich.de/event/transvaal-belegt-52/
END:VEVENT
BEGIN:VEVENT
DTSTART;VALUE=DATE:20260617
DTEND;VALUE=DATE:20260618
DTSTAMP:20260425T161603
CREATED:20260113T085337Z
LAST-MODIFIED:20260422T114358Z
UID:11104-1781654400-1781740799@schuetzen-hamich.de
SUMMARY:Chronik Hamich e.V.
DESCRIPTION:Chronik Hamich e.V.
URL:https://schuetzen-hamich.de/event/transvaal-belegt-48/
END:VEVENT
BEGIN:VEVENT
DTSTART;VALUE=DATE:20260621
DTEND;VALUE=DATE:20260622
DTSTAMP:20260425T161603
CREATED:20251007T160431Z
LAST-MODIFIED:20251007T160431Z
UID:11032-1782000000-1782086399@schuetzen-hamich.de
SUMMARY:Vogelschuss St Donatus Schützengesellschaft
DESCRIPTION:Vogelschuss Sankt Donatus Schützengesellschaft Hamich von 1976 e.V.
URL:https://schuetzen-hamich.de/event/vogelschuss-st-donatus-schuetzengesellschaft/
END:VEVENT
END:VCALENDAR