BEGIN:VCALENDAR
VERSION:2.0
PRODID:-// - ECPv6.15.20//NONSGML v1.0//EN
CALSCALE:GREGORIAN
METHOD:PUBLISH
X-ORIGINAL-URL:https://schuetzen-hamich.de
X-WR-CALDESC:Veranstaltungen für 
REFRESH-INTERVAL;VALUE=DURATION:PT1H
X-Robots-Tag:noindex
X-PUBLISHED-TTL:PT1H
BEGIN:VTIMEZONE
TZID:Europe/Berlin
BEGIN:DAYLIGHT
TZOFFSETFROM:+0100
TZOFFSETTO:+0200
TZNAME:CEST
DTSTART:20250330T010000
END:DAYLIGHT
BEGIN:STANDARD
TZOFFSETFROM:+0200
TZOFFSETTO:+0100
TZNAME:CET
DTSTART:20251026T010000
END:STANDARD
BEGIN:DAYLIGHT
TZOFFSETFROM:+0100
TZOFFSETTO:+0200
TZNAME:CEST
DTSTART:20260329T010000
END:DAYLIGHT
BEGIN:STANDARD
TZOFFSETFROM:+0200
TZOFFSETTO:+0100
TZNAME:CET
DTSTART:20261025T010000
END:STANDARD
BEGIN:DAYLIGHT
TZOFFSETFROM:+0100
TZOFFSETTO:+0200
TZNAME:CEST
DTSTART:20270328T010000
END:DAYLIGHT
BEGIN:STANDARD
TZOFFSETFROM:+0200
TZOFFSETTO:+0100
TZNAME:CET
DTSTART:20271031T010000
END:STANDARD
END:VTIMEZONE
BEGIN:VEVENT
DTSTART;VALUE=DATE:20260912
DTEND;VALUE=DATE:20260913
DTSTAMP:20260425T205424
CREATED:20260227T181820Z
LAST-MODIFIED:20260227T181821Z
UID:11131-1789171200-1789257599@schuetzen-hamich.de
SUMMARY:Transvaal belegt
DESCRIPTION:Familienfeier R.
URL:https://schuetzen-hamich.de/event/transvaal-belegt-53/
END:VEVENT
BEGIN:VEVENT
DTSTART;VALUE=DATE:20260918
DTEND;VALUE=DATE:20260919
DTSTAMP:20260425T205424
CREATED:20251007T162603Z
LAST-MODIFIED:20251007T162603Z
UID:11041-1789689600-1789775999@schuetzen-hamich.de
SUMMARY:Dorftreff
DESCRIPTION:Dorftreff
URL:https://schuetzen-hamich.de/event/dorftreff-25/
END:VEVENT
BEGIN:VEVENT
DTSTART;VALUE=DATE:20260930
DTEND;VALUE=DATE:20261001
DTSTAMP:20260425T205424
CREATED:20260113T085450Z
LAST-MODIFIED:20260422T114318Z
UID:11106-1790726400-1790812799@schuetzen-hamich.de
SUMMARY:Chronik Hamich e.V.
DESCRIPTION:Chronik Hamich e.V.
URL:https://schuetzen-hamich.de/event/transvaal-belegt-49/
END:VEVENT
END:VCALENDAR