BEGIN:VCALENDAR
VERSION:2.0
PRODID:-// - ECPv6.15.20//NONSGML v1.0//EN
CALSCALE:GREGORIAN
METHOD:PUBLISH
X-ORIGINAL-URL:https://schuetzen-hamich.de
X-WR-CALDESC:Veranstaltungen für 
REFRESH-INTERVAL;VALUE=DURATION:PT1H
X-Robots-Tag:noindex
X-PUBLISHED-TTL:PT1H
BEGIN:VTIMEZONE
TZID:Europe/Berlin
BEGIN:DAYLIGHT
TZOFFSETFROM:+0100
TZOFFSETTO:+0200
TZNAME:CEST
DTSTART:20250330T010000
END:DAYLIGHT
BEGIN:STANDARD
TZOFFSETFROM:+0200
TZOFFSETTO:+0100
TZNAME:CET
DTSTART:20251026T010000
END:STANDARD
BEGIN:DAYLIGHT
TZOFFSETFROM:+0100
TZOFFSETTO:+0200
TZNAME:CEST
DTSTART:20260329T010000
END:DAYLIGHT
BEGIN:STANDARD
TZOFFSETFROM:+0200
TZOFFSETTO:+0100
TZNAME:CET
DTSTART:20261025T010000
END:STANDARD
BEGIN:DAYLIGHT
TZOFFSETFROM:+0100
TZOFFSETTO:+0200
TZNAME:CEST
DTSTART:20270328T010000
END:DAYLIGHT
BEGIN:STANDARD
TZOFFSETFROM:+0200
TZOFFSETTO:+0100
TZNAME:CET
DTSTART:20271031T010000
END:STANDARD
END:VTIMEZONE
BEGIN:VEVENT
DTSTART;VALUE=DATE:20261005
DTEND;VALUE=DATE:20261006
DTSTAMP:20260425T222341
CREATED:20251223T154030Z
LAST-MODIFIED:20251223T154030Z
UID:11080-1791158400-1791244799@schuetzen-hamich.de
SUMMARY:Transvaal belegt
DESCRIPTION:Vorstandsitzung BV-WL e.V. mit anschließendem Stammtisch
URL:https://schuetzen-hamich.de/event/transvaal-belegt-44/
END:VEVENT
BEGIN:VEVENT
DTSTART;VALUE=DATE:20261009
DTEND;VALUE=DATE:20261010
DTSTAMP:20260425T222341
CREATED:20251007T162736Z
LAST-MODIFIED:20251007T162736Z
UID:11043-1791504000-1791590399@schuetzen-hamich.de
SUMMARY:Mitgliederversammlung St Donatus Schützengesellschaft
DESCRIPTION:Mitgliederversammlung Sankt Donatus Schützengesellschaft Hamich von 1876 e.V.
URL:https://schuetzen-hamich.de/event/mitgliederversammlung-st-donatus-schuetzengesellschaft-2/
END:VEVENT
BEGIN:VEVENT
DTSTART;VALUE=DATE:20261016
DTEND;VALUE=DATE:20261017
DTSTAMP:20260425T222341
CREATED:20251103T131252Z
LAST-MODIFIED:20251103T131252Z
UID:11061-1792108800-1792195199@schuetzen-hamich.de
SUMMARY:Transvaal belegt
DESCRIPTION:Dorftreff
URL:https://schuetzen-hamich.de/event/transvaal-belegt-41/
END:VEVENT
END:VCALENDAR