BEGIN:VCALENDAR
VERSION:2.0
PRODID:-// - ECPv6.15.20//NONSGML v1.0//EN
CALSCALE:GREGORIAN
METHOD:PUBLISH
X-ORIGINAL-URL:https://schuetzen-hamich.de
X-WR-CALDESC:Veranstaltungen für 
REFRESH-INTERVAL;VALUE=DURATION:PT1H
X-Robots-Tag:noindex
X-PUBLISHED-TTL:PT1H
BEGIN:VTIMEZONE
TZID:Europe/Berlin
BEGIN:DAYLIGHT
TZOFFSETFROM:+0100
TZOFFSETTO:+0200
TZNAME:CEST
DTSTART:20250330T010000
END:DAYLIGHT
BEGIN:STANDARD
TZOFFSETFROM:+0200
TZOFFSETTO:+0100
TZNAME:CET
DTSTART:20251026T010000
END:STANDARD
BEGIN:DAYLIGHT
TZOFFSETFROM:+0100
TZOFFSETTO:+0200
TZNAME:CEST
DTSTART:20260329T010000
END:DAYLIGHT
BEGIN:STANDARD
TZOFFSETFROM:+0200
TZOFFSETTO:+0100
TZNAME:CET
DTSTART:20261025T010000
END:STANDARD
BEGIN:DAYLIGHT
TZOFFSETFROM:+0100
TZOFFSETTO:+0200
TZNAME:CEST
DTSTART:20270328T010000
END:DAYLIGHT
BEGIN:STANDARD
TZOFFSETFROM:+0200
TZOFFSETTO:+0100
TZNAME:CET
DTSTART:20271031T010000
END:STANDARD
END:VTIMEZONE
BEGIN:VEVENT
DTSTART;VALUE=DATE:20261112
DTEND;VALUE=DATE:20261113
DTSTAMP:20260425T234231
CREATED:20251029T113530Z
LAST-MODIFIED:20251029T113530Z
UID:11056-1794441600-1794527999@schuetzen-hamich.de
SUMMARY:Transvaal belegt
DESCRIPTION:Sankt Martinfeier Sankt Donatus Schützengesellschaft Hamich von 1876 e.V.
URL:https://schuetzen-hamich.de/event/transvaal-belegt-39/
END:VEVENT
BEGIN:VEVENT
DTSTART;VALUE=DATE:20261118
DTEND;VALUE=DATE:20261119
DTSTAMP:20260425T234231
CREATED:20260113T085528Z
LAST-MODIFIED:20260422T114227Z
UID:11108-1794960000-1795046399@schuetzen-hamich.de
SUMMARY:Chronik Hamich e.V.
DESCRIPTION:Chronik Hamich e.V.
URL:https://schuetzen-hamich.de/event/transvaal-belegt-50/
END:VEVENT
BEGIN:VEVENT
DTSTART;VALUE=DATE:20261120
DTEND;VALUE=DATE:20261121
DTSTAMP:20260425T234231
CREATED:20251007T162838Z
LAST-MODIFIED:20251007T162838Z
UID:11045-1795132800-1795219199@schuetzen-hamich.de
SUMMARY:Dorftreff
DESCRIPTION:Dorftreff
URL:https://schuetzen-hamich.de/event/dorftreff-26/
END:VEVENT
END:VCALENDAR